﻿BEGIN:VCALENDAR
VERSION:2.0
PRODID:-//REV 4.0 - ECPv4.8.2//NONSGML v1.0//EN
CALSCALE:GREGORIAN
METHOD:PUBLISH
X-WR-CALNAME:REV 4.0
X-ORIGINAL-URL:https://rev4.uek.krakow.pl
X-WR-CALDESC:Events for REV 4.0
BEGIN:VEVENT
DTSTART;TZID=Europe/Warsaw:20211201T170000
DTEND;TZID=Europe/Warsaw:20211201T183000
DTSTAMP:20260420T235515
CREATED:20211115T090421Z
LAST-MODIFIED:20211115T090441Z
UID:5634-1638378000-1638383400@rev4.uek.krakow.pl
SUMMARY:Seminarium: Zrównoważone zarządzanie projektami.
DESCRIPTION:Seminarium organizowane w ramach problemu węzłowego 1.1 Złożoność zarządzania organizacjami w warunkach 4. rewolucji przemysłowej. Gościem spotkania będzie Małgorzata Zakrzewska. \nSpotkanie odbędzie się na Uniwersytecie Ekonomicznym w Krakowie\, sala 214\, Budynek Biblioteki. 
URL:https://rev4.uek.krakow.pl/nadchodzace_wydarzenia/seminarium-zrownowazone-zarzadzanie-projektami/
LOCATION:Biblioteka\, sala 214\, Kampus UEK\, Rakowicka 27\, Biblioteka\, sala 214\, Kraków
CATEGORIES:Seminarium
END:VEVENT
END:VCALENDAR