﻿BEGIN:VCALENDAR
VERSION:2.0
PRODID:-//REV 4.0 - ECPv4.8.2//NONSGML v1.0//EN
CALSCALE:GREGORIAN
METHOD:PUBLISH
X-WR-CALNAME:REV 4.0
X-ORIGINAL-URL:https://rev4.uek.krakow.pl
X-WR-CALDESC:Events for REV 4.0
BEGIN:VEVENT
DTSTART;TZID=Europe/Warsaw:20220823T120000
DTEND;TZID=Europe/Warsaw:20220823T140000
DTSTAMP:20260421T210501
CREATED:20220822T084422Z
LAST-MODIFIED:20220822T084422Z
UID:6077-1661256000-1661263200@rev4.uek.krakow.pl
SUMMARY:Seminarium zespołu PW 1.1 Złożoność zarządzania organizacjami w warunkach 4. rewolucji przemysłowej.
DESCRIPTION:Seminarium Naukowe zespołu PW 1.1 Złożoność zarządzania organizacjami w warunkach 4. rewolucji przemysłowej. \nSeminarium odbędzie się 23 sierpnia 2022 r. w godz. 12.00-14:00 na terenie Kampusu UEK\, ul. Rakowicka 27. \nOrganizatorem seminarium jest dr hab. Mariusz Sołtysik\, prof. UEK\, Lider zespołu PW 1.1 Złożoność zarządzania organizacjami w warunkach 4. rewolucji przemysłowej. 
URL:https://rev4.uek.krakow.pl/nadchodzace_wydarzenia/seminarium-zespolu-pw-1-1-zlozonosc-zarzadzania-organizacjami-w-warunkach-4-rewolucji-przemyslowej/
LOCATION:Biblioteka\, Kampus UEK\, Rakowicka 27\, Biblioteka Główna\, sala 426\, Kraków
CATEGORIES:Seminarium
END:VEVENT
END:VCALENDAR