﻿BEGIN:VCALENDAR
VERSION:2.0
PRODID:-//REV 4.0 - ECPv4.8.2//NONSGML v1.0//EN
CALSCALE:GREGORIAN
METHOD:PUBLISH
X-WR-CALNAME:REV 4.0
X-ORIGINAL-URL:https://rev4.uek.krakow.pl
X-WR-CALDESC:Events for REV 4.0
BEGIN:VEVENT
DTSTART;TZID=Europe/Warsaw:20211021T113000
DTEND;TZID=Europe/Warsaw:20211021T130000
DTSTAMP:20260420T061640
CREATED:20211014T074755Z
LAST-MODIFIED:20211014T081026Z
UID:5559-1634815800-1634821200@rev4.uek.krakow.pl
SUMMARY:Seminarium: Przedsiębiorcy vs. Covid-19: wyniki i organizacja badań międzynarodowych
DESCRIPTION:Seminarium „Przedsiębiorcy vs. Covid-19: wyniki i organizacja badań międzynarodowych” odbędzie się w czwartek 21 października o godz. 11.30 w Pawilonie G\, sali nr 13. \nGościem spotkania będzie dr hab. Przemysław Zbierowski – profesor Uniwersytetu Ekonomicznego w Katowicach\, kierownik Katedry Zarządzania Zasobami Ludzkimi. \nSeminarium  organizowane jest w ramach zespołu problemu węzłowego 2.2 Zasoby rozwojowe nowej gospodarki\, którego liderem naukowym jest dr Małgorzata Kosała. 
URL:https://rev4.uek.krakow.pl/nadchodzace_wydarzenia/seminarium-przedsiebiorcy-vs-covid-19-wyniki-i-organizacja-badan-miedzynarodowych/
LOCATION:Pawilon G 13\, Kampus UEK\, ul. Rakowicka 27\, Pawilon G\, sala 13\, Kraków
CATEGORIES:Seminarium
END:VEVENT
END:VCALENDAR