﻿BEGIN:VCALENDAR
VERSION:2.0
PRODID:-//REV 4.0 - ECPv4.8.2//NONSGML v1.0//EN
CALSCALE:GREGORIAN
METHOD:PUBLISH
X-WR-CALNAME:REV 4.0
X-ORIGINAL-URL:https://rev4.uek.krakow.pl
X-WR-CALDESC:Events for REV 4.0
BEGIN:VEVENT
DTSTART;TZID=Europe/Warsaw:20220608T130000
DTEND;TZID=Europe/Warsaw:20220608T150000
DTSTAMP:20260421T071509
CREATED:20220524T094244Z
LAST-MODIFIED:20220524T103345Z
UID:5969-1654693200-1654700400@rev4.uek.krakow.pl
SUMMARY:Seminarium: Orientacja innowacyjna w warunkach złożoności zarządzania
DESCRIPTION:Zapraszamy do udziału w Seminarium Naukowym nt. Orientacji innowacyjnej w warunkach złożoności zarządzania. PW 1.1 Złożoność zarządzania organizacjami w warunkach 4. rewolucji przemysłowej. \nGłównym tematem seminarium będzie monografia pt. “Innovation Orientation in Business Services. Scope\, Scale and Measurement” autorstwa dr. hab. Krzysztofa Borodako\, prof. UEK\, dr hab. Jadwigi Berbeki\, prof. UEK oraz dr. Michała Rudnickiego z Instytutu Zarządzania Uniwersytetu Ekonomicznego w Krakowie. \nSeminarium odbędzie się 8 czerwca 2022 r. w godz. 13.00-15:00 na terenie Kampusu UEK\, ul. Rakowicka 27\, Budynek Biblioteki\, sala 214. \nOrganizatorem seminarium jest dr hab. Mariusz Sołtysik\, prof. UEK\, Lider zespołu PW 1.1 Złożoność zarządzania organizacjami w warunkach 4. rewolucji przemysłowej. 
URL:https://rev4.uek.krakow.pl/nadchodzace_wydarzenia/seminarium-orientacja-innowacyjna-w-warunkach-zlozonosci-zarzadzania/
LOCATION:Biblioteka\, sala 214\, Kampus UEK\, Rakowicka 27\, Biblioteka\, sala 214\, Kraków
CATEGORIES:Seminarium,Wydarzenie
END:VEVENT
END:VCALENDAR