﻿BEGIN:VCALENDAR
VERSION:2.0
PRODID:-//REV 4.0 - ECPv4.8.2//NONSGML v1.0//EN
CALSCALE:GREGORIAN
METHOD:PUBLISH
X-WR-CALNAME:REV 4.0
X-ORIGINAL-URL:https://rev4.uek.krakow.pl
X-WR-CALDESC:Events for REV 4.0
BEGIN:VEVENT
DTSTART;TZID=Europe/Warsaw:20221124T170000
DTEND;TZID=Europe/Warsaw:20221124T190000
DTSTAMP:20260426T003505
CREATED:20221114T140212Z
LAST-MODIFIED:20221114T140212Z
UID:6154-1669309200-1669316400@rev4.uek.krakow.pl
SUMMARY:Seminarium naukowe zespołu PW 2.2 – Zasoby rozwojowe nowej gospodarki
DESCRIPTION:W dniu 24.11.2022 r. o godz. 17 odbędzie się seminarium naukowe zespołu PW 2.2 – Zasoby rozwojowe nowej gospodarki\, tematem seminarium będzię współpraca z instytucjami otoczenia biznesu w zakresie realizacji projektów edukacyjnych. \nWśród zaproszonych gości będą przedstawiciele korporacji\, małych i średnich przedsiębiorstw oraz instytucji wspierających przedsiębiorczość\, np. Małopolskie Centrum Przedsiębiorczości\, Sieć Badawcza Łukasiewicz – Krakowski Instytut Technologiczny. \nSeminarium będzie miało charakter zamknięty. 
URL:https://rev4.uek.krakow.pl/nadchodzace_wydarzenia/seminarium-naukowe-zespolu-pw-2-2-zasoby-rozwojowe-nowej-gospodarki/
LOCATION:Kampus
CATEGORIES:Seminarium
END:VEVENT
END:VCALENDAR