﻿BEGIN:VCALENDAR
VERSION:2.0
PRODID:-//REV 4.0 - ECPv4.8.2//NONSGML v1.0//EN
CALSCALE:GREGORIAN
METHOD:PUBLISH
X-WR-CALNAME:REV 4.0
X-ORIGINAL-URL:https://rev4.uek.krakow.pl
X-WR-CALDESC:Events for REV 4.0
BEGIN:VEVENT
DTSTART;TZID=Europe/Warsaw:20221121T100000
DTEND;TZID=Europe/Warsaw:20221121T120000
DTSTAMP:20260425T223046
CREATED:20221107T164016Z
LAST-MODIFIED:20221107T165245Z
UID:6134-1669024800-1669032000@rev4.uek.krakow.pl
SUMMARY:Seminarium naukowe zespołu PW 2.1 - Nowe relacje przemysłowe
DESCRIPTION:W dniu 21.11.2022 r. o godzinie 10:00. odbędzie się seminarium naukowe w ramach projektu RID. \nSeminarium odbędzie się w formie zamkniętej (dla zaproszonych gości\, tematem przewodnim będzie współpraca miedzy UEK\, MARR\, EPRD w zakresie realizacji projektów badawczych). Miejscem odbywania się seminarium będzie siedziba Małopolskiej Agencji Rozwoju Regionalnego (MARR). Głównym prelegentem będzie Pan Tadeusz Pęczek\, Prezes Zarządu EPRD\, Konsul Honorowy Finlandii. \nSeminarium odbędzie się w ramach działalności zespołu PW 2.1 – Nowe relacje przemysłowe pod przewodnictwem dr hab. Marii Urbaniec\, prof. UEK. \n  
URL:https://rev4.uek.krakow.pl/nadchodzace_wydarzenia/seminarium-naukowe-zespolu-pw-2-1-nowe-relacje-przemyslowe/
LOCATION:UEK\, Kampus UEK\, Rakowicka 27\, Kraków
CATEGORIES:Seminarium,Wydarzenie
END:VEVENT
END:VCALENDAR