﻿BEGIN:VCALENDAR
VERSION:2.0
PRODID:-//REV 4.0 - ECPv4.8.2//NONSGML v1.0//EN
CALSCALE:GREGORIAN
METHOD:PUBLISH
X-WR-CALNAME:REV 4.0
X-ORIGINAL-URL:https://rev4.uek.krakow.pl
X-WR-CALDESC:Events for REV 4.0
BEGIN:VEVENT
DTSTART;TZID=Europe/Warsaw:20220328T120000
DTEND;TZID=Europe/Warsaw:20220328T133000
DTSTAMP:20260421T033811
CREATED:20220323T104610Z
LAST-MODIFIED:20220323T110117Z
UID:5792-1648468800-1648474200@rev4.uek.krakow.pl
SUMMARY:Seminarium: Ludzie i algorytmy: awersja czy upodobanie?
DESCRIPTION:Zapraszamy na seminarium organizowane w ramach PW 1.3 Przemiany na rynkach finansowych i w kluczowych instytucjach rynkowych. Gościem seminarium będzie dr Anna Macko jest adiunktem w Katedrze Psychologii Ekonomicznej oraz badaczem w Centrum Psychologii Ekonomicznej i Nauk Decyzyjnych Akademii Leona Koźmińskiego. \nSeminarium odbędzie się dnia 28 marca 2022 roku w godz. 12:00-13:30 w formie zdalnej za pośrednictwem platformy Zoom. \nJoin Zoom Meeting: https://zoom.us/j/92973080178?pwd=eS9uY24vMVRLcHBWT1pCMmI2SVQzQT09 \nIdentyfikator spotkania: 929 7308 0178\nKod dostępu: 067266 
URL:https://rev4.uek.krakow.pl/nadchodzace_wydarzenia/seminarium-ludzie-i-algorytmy-awersja-czy-upodobanie/
LOCATION:Budynak Główny\, Kampus UEK\, ul. Rakowicka 27\, Budynek Główny\, Sala Senacka\, Kraków
CATEGORIES:Seminarium,Wydarzenie
END:VEVENT
END:VCALENDAR