﻿BEGIN:VCALENDAR
VERSION:2.0
PRODID:-//REV 4.0 - ECPv4.8.2//NONSGML v1.0//EN
CALSCALE:GREGORIAN
METHOD:PUBLISH
X-WR-CALNAME:REV 4.0
X-ORIGINAL-URL:https://rev4.uek.krakow.pl
X-WR-CALDESC:Events for REV 4.0
BEGIN:VEVENT
DTSTART;TZID=Europe/Warsaw:20220208T113000
DTEND;TZID=Europe/Warsaw:20220208T130000
DTSTAMP:20260420T063655
CREATED:20220118T104237Z
LAST-MODIFIED:20220118T104237Z
UID:5672-1644319800-1644325200@rev4.uek.krakow.pl
SUMMARY:Seminarium: Kompetencje 4.0 jako czynniki ułatwiające realizację projektów w programie Erasmus+\, zarządzanie nimi i ich trwałość w czasach pandemii COVID-19
DESCRIPTION:Głównym prelegentem będzie dr Paweł Poszytek z Fundacji Rozwoju Systemu Edukacji \nLink do spotkania: : https://zoom.us/j/96060866414?pwd=Qnd4Y05MczZrcFBaZjFqRnUwaDVIdz09 
URL:https://rev4.uek.krakow.pl/nadchodzace_wydarzenia/seminarium-kompetencje-4-0-jako-czynniki-ulatwiajace-realizacje-projektow-w-programie-erasmus-zarzadzanie-nimi-i-ich-trwalosc-w-czasach-pandemii-covid-19/
LOCATION:Budynak Główny\, Kampus UEK\, ul. Rakowicka 27\, Budynek Główny\, Sala Senacka\, Kraków
CATEGORIES:Seminarium
END:VEVENT
END:VCALENDAR