﻿BEGIN:VCALENDAR
VERSION:2.0
PRODID:-//REV 4.0 - ECPv4.8.2//NONSGML v1.0//EN
CALSCALE:GREGORIAN
METHOD:PUBLISH
X-WR-CALNAME:REV 4.0
X-ORIGINAL-URL:https://rev4.uek.krakow.pl
X-WR-CALDESC:Events for REV 4.0
BEGIN:VEVENT
DTSTART;TZID=Europe/Warsaw:20220516T100000
DTEND;TZID=Europe/Warsaw:20220516T120000
DTSTAMP:20260422T005848
CREATED:20220511T104214Z
LAST-MODIFIED:20220511T104312Z
UID:5848-1652695200-1652702400@rev4.uek.krakow.pl
SUMMARY:Seminarium: Climate Risk Modelling.
DESCRIPTION:Seminarium naukowe w ramach PW 1.3 Przemiany na rynkach finansowych i w kluczowych instytucjach rynkowych. Odbędzie się stacjonarnie na terenie Kampusu UEK\, Pawilon F – sala 618. \nSeminarium poprowadzi dr Rafała Szepietowski. Temat: Climate Risk Modelling. 
URL:https://rev4.uek.krakow.pl/nadchodzace_wydarzenia/seminarium-climate-risk-modelling/
LOCATION:UEK\, Pawilon F\, sala 618\, Rakowicka 27- pawilon F\, Kraków\, małopolskie\, 31-510
CATEGORIES:Seminarium,Wydarzenie
END:VEVENT
END:VCALENDAR