﻿BEGIN:VCALENDAR
VERSION:2.0
PRODID:-//REV 4.0 - ECPv4.8.2//NONSGML v1.0//EN
CALSCALE:GREGORIAN
METHOD:PUBLISH
X-WR-CALNAME:REV 4.0
X-ORIGINAL-URL:https://rev4.uek.krakow.pl
X-WR-CALDESC:Events for REV 4.0
BEGIN:VEVENT
DTSTART;TZID=Europe/Warsaw:20220919T080000
DTEND;TZID=Europe/Warsaw:20220923T170000
DTSTAMP:20260422T182432
CREATED:20220824T085304Z
LAST-MODIFIED:20220912T122239Z
UID:6079-1663574400-1663952400@rev4.uek.krakow.pl
SUMMARY:Cykl konferencji podsumowujących najważniejsze osiągnięcia projektu (REV 4.0 )
DESCRIPTION:Zapraszamy do udziału w cyklu konferencji podsumowujących najważniejsze osiągnięcia projektu (REV 4.0 ) „Społeczno-gospodarcze konsekwencje czwartej rewolucji przemysłowej” finansowanego w ramach programu Ministra Edukacji i Nauki pod nazwą „Regionalna Inicjatywa Doskonałości”. Konferencję główną poprzedzi dziewięć konferencji tematycznych związanych z problemami węzłowymi w ramach których prowadzone były badania podczas projektu. Cykl dziewięciu konferencji odbędzie się w terminie 19-21 września 2022 r.\, a konferencja główna w dniach 22-23 września 2022 r. na terenie Kampusu UEK. \nProgram cyklu konferencji dostępny jest na stronie wydarzenia: revconference.uek.krakow.pl \n  
URL:https://rev4.uek.krakow.pl/nadchodzace_wydarzenia/cyklu-konferencji-podsumowujacych-najwazniejsze-osiagniecia-projektu-rev-4-0/
CATEGORIES:Konferencja
END:VEVENT
END:VCALENDAR